BEGIN:VCALENDAR
VERSION:2.0
PRODID:-//Persbureau Ameland - ECPv6.15.20//NONSGML v1.0//EN
CALSCALE:GREGORIAN
METHOD:PUBLISH
X-WR-CALNAME:Persbureau Ameland
X-ORIGINAL-URL:https://www.persbureau-ameland.nl
X-WR-CALDESC:Evenementen voor Persbureau Ameland
REFRESH-INTERVAL;VALUE=DURATION:PT1H
X-Robots-Tag:noindex
X-PUBLISHED-TTL:PT1H
BEGIN:VTIMEZONE
TZID:Europe/Helsinki
BEGIN:DAYLIGHT
TZOFFSETFROM:+0200
TZOFFSETTO:+0300
TZNAME:EEST
DTSTART:20230326T010000
END:DAYLIGHT
BEGIN:STANDARD
TZOFFSETFROM:+0300
TZOFFSETTO:+0200
TZNAME:EET
DTSTART:20231029T010000
END:STANDARD
BEGIN:DAYLIGHT
TZOFFSETFROM:+0200
TZOFFSETTO:+0300
TZNAME:EEST
DTSTART:20240331T010000
END:DAYLIGHT
BEGIN:STANDARD
TZOFFSETFROM:+0300
TZOFFSETTO:+0200
TZNAME:EET
DTSTART:20241027T010000
END:STANDARD
BEGIN:DAYLIGHT
TZOFFSETFROM:+0200
TZOFFSETTO:+0300
TZNAME:EEST
DTSTART:20250330T010000
END:DAYLIGHT
BEGIN:STANDARD
TZOFFSETFROM:+0300
TZOFFSETTO:+0200
TZNAME:EET
DTSTART:20251026T010000
END:STANDARD
END:VTIMEZONE
BEGIN:VEVENT
DTSTART;TZID=Europe/Helsinki:20240310T160000
DTEND;TZID=Europe/Helsinki:20240310T160000
DTSTAMP:20260419T234850
CREATED:20240304T103610Z
LAST-MODIFIED:20240304T103610Z
UID:93316-1710086400-1710086400@www.persbureau-ameland.nl
SUMMARY:Live muziek met Paul Martin bij Pannekoekhuis 'Onder de vuurtoren'
DESCRIPTION:Zondag 10 maart om 16.00 uur geniet je van live muziek met Paul Martin bij Pannenkoekenhuis ‘Onder de Vuurtoren’ onder het genot van een drankje en een heerlijke pannenkoek. Je kunt er vooral Ierse en Schotse muziek verwachten\, met een gezonde dosis van Country\, Classic Rock\, Folk en Bluegrass.
URL:https://www.persbureau-ameland.nl/agenda/live-muziek-met-paul-martin-bij-pannekoekhuis-onder-de-vuurtoren
END:VEVENT
BEGIN:VEVENT
DTSTART;TZID=Europe/Helsinki:20240316T200000
DTEND;TZID=Europe/Helsinki:20240316T210000
DTSTAMP:20260419T234850
CREATED:20240214T195526Z
LAST-MODIFIED:20240214T195526Z
UID:93201-1710619200-1710622800@www.persbureau-ameland.nl
SUMMARY:Jaaruitvoering Forza Musica
DESCRIPTION:Muziekvereniging Forza Musica heeft op zaterdag 16 maart haar jaarlijkse uitvoering.  \n\n\n\nDe muzikale avond is in Ons Hol en begint om 20.00 uur.
URL:https://www.persbureau-ameland.nl/agenda/jaaruitvoering-forza-musica
LOCATION:Ons Hol\, Oranjeweg 30\, Hollum\, Nederland\, 9161 CC
END:VEVENT
BEGIN:VEVENT
DTSTART;TZID=Europe/Helsinki:20240317T150000
DTEND;TZID=Europe/Helsinki:20240317T230000
DTSTAMP:20260419T234850
CREATED:20240311T141427Z
LAST-MODIFIED:20240311T141427Z
UID:93388-1710687600-1710716400@www.persbureau-ameland.nl
SUMMARY:St. Patrick’s day party in het Pannenkoekhuis
DESCRIPTION:
URL:https://www.persbureau-ameland.nl/agenda/st-patricks-day-party-in-het-pannenkoekhuis
LOCATION:Pannenkoekhuis Onder de Vuurtoren\, Oranjeweg 44\, Hollum\, Friesland\, 9161 CC\, Nederland
END:VEVENT
BEGIN:VEVENT
DTSTART;TZID=Europe/Helsinki:20240318T000000
DTEND;TZID=Europe/Helsinki:20240318T235959
DTSTAMP:20260419T234850
CREATED:20231101T130649Z
LAST-MODIFIED:20231101T130649Z
UID:91953-1710720000-1710806399@www.persbureau-ameland.nl
SUMMARY:Bedrijfsbezoek Vrouwen van Nu aan de fa. Nagtegaal
DESCRIPTION:
URL:https://www.persbureau-ameland.nl/agenda/bedrijfsbezoek-vrouwen-van-nu-aan-de-fa-nagtegaal
END:VEVENT
BEGIN:VEVENT
DTSTART;TZID=Europe/Helsinki:20240322T200000
DTEND;TZID=Europe/Helsinki:20240322T200000
DTSTAMP:20260419T234850
CREATED:20231030T144131Z
LAST-MODIFIED:20231030T144131Z
UID:91900-1711137600-1711137600@www.persbureau-ameland.nl
SUMMARY:Lezing: Ameland en de Spaanse Burgeroorlog
DESCRIPTION:Cor Faber raakte geïntrigeerd door de Spaanse Burgeroorlog toen hij het dagboek van zijn opa in handen kreeg. Hoe kwam het dat zijn opa als gewoon matroos belandde in een Spaanse gevangenis? Nog met behulp van aantekeningen van Jan Fokkema bereidde hij deze interessante lezing voor waarin de rol van het eiland Ameland aan de orde komt.
URL:https://www.persbureau-ameland.nl/agenda/lezing-ameland-en-de-spaanse-burgeroorlog
LOCATION:Clubhuis “De Toel”\, Kardinaal de Jongweg 31\, Nes\, 9163 HZ\, Nederland
END:VEVENT
BEGIN:VEVENT
DTSTART;TZID=Europe/Helsinki:20240325T080000
DTEND;TZID=Europe/Helsinki:20240325T170000
DTSTAMP:20260419T234850
CREATED:20240314T200900Z
LAST-MODIFIED:20240314T200900Z
UID:93456-1711353600-1711386000@www.persbureau-ameland.nl
SUMMARY:Oogmode Cocon
DESCRIPTION:Medewerkers van Oogmode Cocon\, gevestigd in Leeuwarden\, komen speciaal voor alle bril- en contactlensdragers op Ameland naar het eiland. Op maandag 25 maart staan ze voor je klaar in huisartspraktijk Maters aan de Schoolstraat 1 in Nes. \n\n\n\nHier kun je terecht voor het nauwkeurig opmeten van je ogen\, een grondige lenscontrole\, het uitkiezen van een nieuwe (zonne)bril\, het bijstellen van je huidige bril en zelfs voor kleine reparaties. \n\n\n\nMeer informatie: www.oogmodecocon.nl \n\n\n\nCocon in 2024 op Ameland \n\n\n\n25 maart \n\n\n\n29 april \n\n\n\n3 juni \n\n\n\n1 juli \n\n\n\n7 oktober \n\n\n\n4 november \n\n\n\n2 december
URL:https://www.persbureau-ameland.nl/agenda/oogmode-cocon-3
LOCATION:Oogmode Cocon\, Schoolstraat 1\, Nes\, Friesland\, 9163GE\, Nederland
END:VEVENT
BEGIN:VEVENT
DTSTART;TZID=Europe/Helsinki:20240327T133000
DTEND;TZID=Europe/Helsinki:20240327T163000
DTSTAMP:20260419T234850
CREATED:20240321T201221Z
LAST-MODIFIED:20240321T201221Z
UID:93564-1711546200-1711557000@www.persbureau-ameland.nl
SUMMARY:Paasspeurtocht door Hollum
DESCRIPTION:Op woensdag 27 maart zal er vanaf 13.30 uur weer een Paasspeurtocht door Hollum gehouden worden. De inloop is tussen 13.30 – 14.00 uur bij de Magnuskerk van Hollum.  \n\n\n\nOndersteund door verschillende muziekgroepen ga je via meerdere posten ontdekken waarom het goed is dat jij er bent. Je bent nodig om iets voor elkaar te krijgen! Onder andere door boog te schieten en iets in elkaar te knutselen kom je uiteindelijk bij de feestlocatie waar een pannenkoek de beloning zal zijn voor al jouw hulp. Kom je ook en help je mee om alles tot een goed einde te brengen?  \n\n\n\nDe Paasspeurtocht wordt georganiseerd door de Hervormde Gemeente Ameland\, de Federatie Doopsgezind-Gereformeerd en pioniersplek De Plaats. \n\n\n\nDatum: 27 maart \n\n\n\nTijd: 13.30 – 16.30 (inloop startlocatie 13.30-14.00 uur) \n\n\n\nStartlocatie: De Magnuskerk in Hollum \n\n\n\nThema: Wat goed dat jij er bent!
URL:https://www.persbureau-ameland.nl/agenda/paasspeurtocht-door-hollum
END:VEVENT
END:VCALENDAR