BEGIN:VCALENDAR
VERSION:2.0
PRODID:-//Persbureau Ameland - ECPv6.15.20//NONSGML v1.0//EN
CALSCALE:GREGORIAN
METHOD:PUBLISH
X-ORIGINAL-URL:https://www.persbureau-ameland.nl
X-WR-CALDESC:Evenementen voor Persbureau Ameland
REFRESH-INTERVAL;VALUE=DURATION:PT1H
X-Robots-Tag:noindex
X-PUBLISHED-TTL:PT1H
BEGIN:VTIMEZONE
TZID:Europe/Helsinki
BEGIN:DAYLIGHT
TZOFFSETFROM:+0200
TZOFFSETTO:+0300
TZNAME:EEST
DTSTART:20230326T010000
END:DAYLIGHT
BEGIN:STANDARD
TZOFFSETFROM:+0300
TZOFFSETTO:+0200
TZNAME:EET
DTSTART:20231029T010000
END:STANDARD
BEGIN:DAYLIGHT
TZOFFSETFROM:+0200
TZOFFSETTO:+0300
TZNAME:EEST
DTSTART:20240331T010000
END:DAYLIGHT
BEGIN:STANDARD
TZOFFSETFROM:+0300
TZOFFSETTO:+0200
TZNAME:EET
DTSTART:20241027T010000
END:STANDARD
BEGIN:DAYLIGHT
TZOFFSETFROM:+0200
TZOFFSETTO:+0300
TZNAME:EEST
DTSTART:20250330T010000
END:DAYLIGHT
BEGIN:STANDARD
TZOFFSETFROM:+0300
TZOFFSETTO:+0200
TZNAME:EET
DTSTART:20251026T010000
END:STANDARD
END:VTIMEZONE
BEGIN:VEVENT
DTSTART;TZID=Europe/Helsinki:20240111T140000
DTEND;TZID=Europe/Helsinki:20240111T140000
DTSTAMP:20260420T034822
CREATED:20231101T130105Z
LAST-MODIFIED:20231101T130105Z
UID:91946-1704981600-1704981600@www.persbureau-ameland.nl
SUMMARY:Nieuwjaarsbijeenkomst Vrouwen van Nu met Anja Brouwer
DESCRIPTION:
URL:https://www.persbureau-ameland.nl/agenda/nieuwjaarsbijeenkomst-vrouwen-van-nu-met-anja-brouwer
LOCATION:Ons Hol\, Oranjeweg 30\, Hollum\, Nederland\, 9161 CC
END:VEVENT
BEGIN:VEVENT
DTSTART;TZID=Europe/Helsinki:20240115T080000
DTEND;TZID=Europe/Helsinki:20240115T170000
DTSTAMP:20260420T034822
CREATED:20240109T122950Z
LAST-MODIFIED:20240109T122950Z
UID:92765-1705305600-1705338000@www.persbureau-ameland.nl
SUMMARY:Oogmode Cocon
DESCRIPTION:Medewerkers van Oogmode Cocon\, gevestigd in Leeuwarden\, komen speciaal voor alle bril- en contactlensdragers op Ameland naar het eiland. Op maandag 15 januari staan ze voor je klaar in huisartspraktijk Maters aan de Schoolstraat 1 in Nes. \n\n\n\nHier kun je terecht voor het nauwkeurig opmeten van je ogen\, een grondige lenscontrole\, het uitkiezen van een nieuwe (zonne)bril\, het bijstellen van je huidige bril en zelfs voor kleine reparaties. \n\n\n\nMeer informatie: www.oogmodecocon.nl \n\n\n\nCocon in 2024 op Ameland \n\n\n\n\n15 januari\n\n\n\n19 februari\n\n\n\n25 maart\n\n\n\n29 april\n\n\n\n3 juni\n\n\n\n1 juli\n\n\n\n7 oktober\n\n\n\n4 november\n\n\n\n2 december
URL:https://www.persbureau-ameland.nl/agenda/oogmode-cocon
LOCATION:Oogmode Cocon\, Schoolstraat 1\, Nes\, Friesland\, 9163GE\, Nederland
END:VEVENT
BEGIN:VEVENT
DTSTART;TZID=Europe/Helsinki:20240123T200000
DTEND;TZID=Europe/Helsinki:20240123T200000
DTSTAMP:20260420T034822
CREATED:20231101T130326Z
LAST-MODIFIED:20231101T130326Z
UID:91949-1706040000-1706040000@www.persbureau-ameland.nl
SUMMARY:Thema avond Vrouwen van Nu: brandwondenpreventie
DESCRIPTION:
URL:https://www.persbureau-ameland.nl/agenda/thema-avond-vrouwen-van-nu-brandwondenpreventie
LOCATION:Ons Hol\, Oranjeweg 30\, Hollum\, Nederland\, 9161 CC
END:VEVENT
BEGIN:VEVENT
DTSTART;TZID=Europe/Helsinki:20240126T200000
DTEND;TZID=Europe/Helsinki:20240126T200000
DTSTAMP:20260420T034822
CREATED:20231030T143805Z
LAST-MODIFIED:20231030T143805Z
UID:91894-1706299200-1706299200@www.persbureau-ameland.nl
SUMMARY:Lezing over kunstschilder Gerrit Postma
DESCRIPTION:Joke Mosterman en Meinte Bonthuis verzorgen een lezing over de kunstschilder Gerrit Postma. Hij is geboren in Nes (1819-1894) en als wees opgevoed in het Amsterdamse doopsgezind weeshuis De Oranjeappel. Op onze website Amelander Historie staat het verhaal over Gerrit Postma dat Joke heeft gepubliceerd in 2019. Op deze avond vertelt ze meer over het bijzondere leven en het talent van Gerrit Postma. Zou je hem de Rembrandt van Ameland kunnen noemen?
URL:https://www.persbureau-ameland.nl/agenda/lezing-over-kunstschilder-gerrit-postma
LOCATION:Clubhuis “De Toel”\, Kardinaal de Jongweg 31\, Nes\, 9163 HZ\, Nederland
END:VEVENT
END:VCALENDAR