BEGIN:VCALENDAR
VERSION:2.0
PRODID:-//Persbureau Ameland - ECPv6.15.20//NONSGML v1.0//EN
CALSCALE:GREGORIAN
METHOD:PUBLISH
X-WR-CALNAME:Persbureau Ameland
X-ORIGINAL-URL:https://www.persbureau-ameland.nl
X-WR-CALDESC:Evenementen voor Persbureau Ameland
REFRESH-INTERVAL;VALUE=DURATION:PT1H
X-Robots-Tag:noindex
X-PUBLISHED-TTL:PT1H
BEGIN:VTIMEZONE
TZID:Europe/Helsinki
BEGIN:DAYLIGHT
TZOFFSETFROM:+0200
TZOFFSETTO:+0300
TZNAME:EEST
DTSTART:20220327T010000
END:DAYLIGHT
BEGIN:STANDARD
TZOFFSETFROM:+0300
TZOFFSETTO:+0200
TZNAME:EET
DTSTART:20221030T010000
END:STANDARD
BEGIN:DAYLIGHT
TZOFFSETFROM:+0200
TZOFFSETTO:+0300
TZNAME:EEST
DTSTART:20230326T010000
END:DAYLIGHT
BEGIN:STANDARD
TZOFFSETFROM:+0300
TZOFFSETTO:+0200
TZNAME:EET
DTSTART:20231029T010000
END:STANDARD
BEGIN:DAYLIGHT
TZOFFSETFROM:+0200
TZOFFSETTO:+0300
TZNAME:EEST
DTSTART:20240331T010000
END:DAYLIGHT
BEGIN:STANDARD
TZOFFSETFROM:+0300
TZOFFSETTO:+0200
TZNAME:EET
DTSTART:20241027T010000
END:STANDARD
END:VTIMEZONE
BEGIN:VEVENT
DTSTART;TZID=Europe/Helsinki:20230701T000000
DTEND;TZID=Europe/Helsinki:20231130T235959
DTSTAMP:20260420T064424
CREATED:20231012T094436Z
LAST-MODIFIED:20231012T094436Z
UID:90985-1688169600-1701388799@www.persbureau-ameland.nl
SUMMARY:Busverhalen
DESCRIPTION:HOLLUM – Wat voor plannen had de dominee van Dongeradeel toen hij met zijn vrouw naar Ameland ging? Stond Ameland ooit op ontploffen? Wat voor ideeën had dominee Van Dijk zeventig jaar geleden al voor de vaargeul naar Ameland? Wat moet een ijsbeer die niet van de kou houdt? Van 1 juni tot eind november is het allemaal te horen op Ameland via de Busverhalen. Op 31 augustus komen er in de bussen en bushaltes nieuwe korte verhalen. In totaal zijn er 12 verhalen te beluisteren\, verzamel ze allemaal. \nOp alle bushaltes en in alle bussen op het eiland kan je een QR-code scannen. Die leidt je naar één van de twaalf verschillende verhalen. De verhalen worden verteld door vertellers van Ameland zelf\, maar ook door vertellers uit Duitsland\, Vlaanderen en Süd-Tirol. Ze zijn te beluisteren in het Nederlands\, Duits en Engels. Sommige verhalen ook in het Fries of Amelands. \nThema van de Busverhalen is ‘Leven met de elementen’.  Dit is ook het thema van het meertalig internationaal vertelfestival ‘Expeditie Ameland – a storytelling adventure’\, dat van 16 tot en met 19 november voor de derde keer gehouden wordt. Op Ameland worden door de gemeente gesprekken gevoerd met de inwoners over het doel om van Ameland zo snel mogelijk een duurzaam eiland te maken. Met de Busverhalen wil de organisator van Expeditie Ameland\, de Stichting Verhalenderwijs\, bijdragen aan dit streven. De Busverhalen nodigen iedereen\, bewoners en toeristen\, van jong tot oud\, uit om te genieten van de tweeminuten verhalen en er met elkaar eens een boom over op te zetten. \nHet project komt tot stand in samenwerking met de Kunstmaand Ameland. Deze internationaal bekend kunstmanifestatie vindt ook plaats in november en heeft als thema ‘Energie’. De ontwerpster van de sticker met QR-code\, Sirma Kekeç\, zal exposeren tijdens de komende Kunstmaand. Vervoersbedrijf Arriva en Gemeente Ameland verlenen alle medewerking aan dit duurzame storytelling project door van bussen en bushaltes verhalenpodia te laten maken. \nLeerlingen van de Kardinaal de Jongschool hebben ook verhalen gemaakt\, tweeminuten verhalen. Over de Cementina\, reddingboot en grondzeeën\, voetballende kraaien\, konijntjes op een quad en over een koe en een bladblazer. \nBeluister die verhalen en de extra Busverhalen via deze link op de website van Eiland van Verhalen.\nDoor Busverhalen van Expeditie Ameland – a storytelling adventure
URL:https://www.persbureau-ameland.nl/agenda/busverhalen
LOCATION:in de bus en bij de bushaltes
END:VEVENT
BEGIN:VEVENT
DTSTART;TZID=Europe/Helsinki:20231103T200000
DTEND;TZID=Europe/Helsinki:20231103T200000
DTSTAMP:20260420T064424
CREATED:20231030T141258Z
LAST-MODIFIED:20231030T141258Z
UID:91874-1699041600-1699041600@www.persbureau-ameland.nl
SUMMARY:Kunstmaandconcert zangkoor Crescendo
DESCRIPTION:Entree is gratis\, collecte na afloop.
URL:https://www.persbureau-ameland.nl/agenda/kunstmaandconcert-zangkoor-crescendo
LOCATION:Vermaningskerk Nes
END:VEVENT
BEGIN:VEVENT
DTSTART;TZID=Europe/Helsinki:20231105T200000
DTEND;TZID=Europe/Helsinki:20231105T200000
DTSTAMP:20260420T064424
CREATED:20231101T140600Z
LAST-MODIFIED:20231101T140600Z
UID:91971-1699214400-1699214400@www.persbureau-ameland.nl
SUMMARY:Kunstmaandconcert DODO & friends
DESCRIPTION:‘Hartverwarmende ontmoetingen bij kaarslicht’ \nTijdens de Kunstmaand geven DODO & friends iedere zondagavond een concert in het Doopsgezind kerkje De Vermaning\, te Nes. Gasten en eilanders zijn van harte welkom. Aanvang 20:00 uur. Toegang vrij. \nDe concerten van DODO & friends zijn hartverwarmende ontmoetingen bij kaarslicht. De muzikanten brengen hits en evergreens\, uit binnen- en buitenland. Van Zonder jou tot Walk of life. Diverse instrumenten klinken waaronder viool\, fluit\, cajon\, piano en gitaar. \nDODO bestaat uit eilandbewoners Jelmer Kooistra en Anne-Meta Kobes. Tijdens de concerten in De Vermaning spelen zij samen met Ingrid de Vries\, Ammie Kooiker en Jester Nynke Schoustra. \nIn De Vermaning is een beperkt aantal zitplaatsen beschikbaar\, daarom raden we u aan uw plek te reserveren via www.DODOameland.nl. De concerten zijn vrij toegankelijk. U kunt een gift geven na afloop. \nMeer informatie over de concerten van DODO vindt u op www.DODOameland.nl\, Facebook & Instagram: DODOameland
URL:https://www.persbureau-ameland.nl/agenda/kunstmaand-concert-dodo-friends
LOCATION:Vermaningskerk Nes
END:VEVENT
BEGIN:VEVENT
DTSTART;TZID=Europe/Helsinki:20231106T080000
DTEND;TZID=Europe/Helsinki:20231106T170000
DTSTAMP:20260420T064424
CREATED:20231019T083030Z
LAST-MODIFIED:20231019T083030Z
UID:91714-1699257600-1699290000@www.persbureau-ameland.nl
SUMMARY:Oogmode Cocon op Ameland
DESCRIPTION:Oogmode Cocon is op maandag 6 november weer op het eiland en heeft zitting in huisartsenpraktijk Maters\, Schoolstraat 1 in Nes. Ook in 2023 komt Cocon regelmatig naar het eiland. \nHet is een bijzondere service die Oogmode Cocon op Ameland (en ook op Schiermponnikoog) biedt. Eilanders hoeven het eiland niet meer af als de bril stuk is\, de ogen gemeten moeten worden\, de contactlenzen aan controle toe zijn of als er een nieuwe bril uitgezocht mag worden. Eens in de maand brengt Cocon namelijk een bezoek aan de eilanden. \nOogmode Cocon heeft moderne oogmeetapparatuur tot haar beschikking\, een selectie van de collectie brillen en een set gereedschappen voor kleine reparaties. Cocon werkt op afspraak. Een afspraak maken kan door de winkel in Leeuwarden te bellen. \nHet telefoonnummer is: 058-2151353. \nAlle data dat Oogmode Cocon op Ameland is staan in de Ameland Agenda. \nCocon in 2023 op Ameland \n\n9 januari\n6 februari\n6 maart\n3 april\n15 mei\n19 juni\n18 september\n6 november\n11 december
URL:https://www.persbureau-ameland.nl/agenda/oogmode-cocon-op-ameland
LOCATION:Oogmode Cocon\, Schoolstraat 1\, Nes\, Friesland\, 9163GE\, Nederland
END:VEVENT
BEGIN:VEVENT
DTSTART;TZID=Europe/Helsinki:20231107T200000
DTEND;TZID=Europe/Helsinki:20231107T200000
DTSTAMP:20260420T064424
CREATED:20231030T142258Z
LAST-MODIFIED:20231030T142258Z
UID:91887-1699387200-1699387200@www.persbureau-ameland.nl
SUMMARY:Concert Brassband Canite Tuba
DESCRIPTION:Entree gratis\, collecte na afloop
URL:https://www.persbureau-ameland.nl/agenda/concert-brassband-canite-tuba
LOCATION:St. Clemenskerk\, Kardinaal de Jongweg 33\, Nes\, Friesland\, 9163 HZ\, Nederland
END:VEVENT
BEGIN:VEVENT
DTSTART;TZID=Europe/Helsinki:20231108T200000
DTEND;TZID=Europe/Helsinki:20231108T230000
DTSTAMP:20260420T064424
CREATED:20231023T081836Z
LAST-MODIFIED:20231023T081836Z
UID:91733-1699473600-1699484400@www.persbureau-ameland.nl
SUMMARY:Kunstmaandoptreden Pop-gospelkoor Inspirit
DESCRIPTION:Woensdag 8 november\, 20.00 uur in de St. Clemenskerk\, Nes Ameland
URL:https://www.persbureau-ameland.nl/agenda/kunstmaandoptreden-pop-gospelkoor-inspirit
LOCATION:St. Clemenskerk\, Kardinaal de Jongweg 33\, Nes\, Friesland\, 9163 HZ\, Nederland
END:VEVENT
BEGIN:VEVENT
DTSTART;TZID=Europe/Helsinki:20231110T200000
DTEND;TZID=Europe/Helsinki:20231110T200000
DTSTAMP:20260420T064424
CREATED:20231030T141544Z
LAST-MODIFIED:20231030T141544Z
UID:91878-1699646400-1699646400@www.persbureau-ameland.nl
SUMMARY:Kunstmaandconcert zangkoor Crescendo
DESCRIPTION:Entree gratis\, collecte na afloop
URL:https://www.persbureau-ameland.nl/agenda/kunstmaandconcert-zangkoor-crescendo-2
LOCATION:De Herenwegkerk\, Herenweg 4\, Hollum\, Friesland\, 9161 AM\, Nederland
END:VEVENT
BEGIN:VEVENT
DTSTART;TZID=Europe/Helsinki:20231112T200000
DTEND;TZID=Europe/Helsinki:20231112T200000
DTSTAMP:20260420T064424
CREATED:20231101T140800Z
LAST-MODIFIED:20231101T140800Z
UID:91975-1699819200-1699819200@www.persbureau-ameland.nl
SUMMARY:Kunstmaandconcert DODO & friends
DESCRIPTION:‘Hartverwarmende ontmoetingen bij kaarslicht’ \nTijdens de Kunstmaand geven DODO & friends iedere zondagavond een concert in het Doopsgezind kerkje De Vermaning\, te Nes. Gasten en eilanders zijn van harte welkom. Aanvang 20:00 uur. Toegang vrij. \nDe concerten van DODO & friends zijn hartverwarmende ontmoetingen bij kaarslicht. De muzikanten brengen hits en evergreens\, uit binnen- en buitenland. Van Zonder jou tot Walk of life. Diverse instrumenten klinken waaronder viool\, fluit\, cajon\, piano en gitaar. \nDODO bestaat uit eilandbewoners Jelmer Kooistra en Anne-Meta Kobes. Tijdens de concerten in De Vermaning spelen zij samen met Ingrid de Vries\, Ammie Kooiker en Jester Nynke Schoustra. \nIn De Vermaning is een beperkt aantal zitplaatsen beschikbaar\, daarom raden we u aan uw plek te reserveren via www.DODOameland.nl. De concerten zijn vrij toegankelijk. U kunt een gift geven na afloop. \nMeer informatie over de concerten van DODO vindt u op www.DODOameland.nl\, Facebook & Instagram: DODOameland
URL:https://www.persbureau-ameland.nl/agenda/kunstmaandconcert-dodo-friends
LOCATION:Vermaningskerk Nes
END:VEVENT
BEGIN:VEVENT
DTSTART;TZID=Europe/Helsinki:20231114T200000
DTEND;TZID=Europe/Helsinki:20231114T200000
DTSTAMP:20260420T064424
CREATED:20231030T142354Z
LAST-MODIFIED:20231030T142354Z
UID:91889-1699992000-1699992000@www.persbureau-ameland.nl
SUMMARY:Concert Brassband Canite Tuba
DESCRIPTION:Entree gratis\, collecte na afloop
URL:https://www.persbureau-ameland.nl/agenda/concert-brassband-canite-tuba-2
LOCATION:St. Clemenskerk\, Kardinaal de Jongweg 33\, Nes\, Friesland\, 9163 HZ\, Nederland
END:VEVENT
BEGIN:VEVENT
DTSTART;TZID=Europe/Helsinki:20231115T200000
DTEND;TZID=Europe/Helsinki:20231115T200000
DTSTAMP:20260420T064424
CREATED:20231030T143543Z
LAST-MODIFIED:20231030T143543Z
UID:91891-1700078400-1700078400@www.persbureau-ameland.nl
SUMMARY:Lezing Karel Oosterling: “De oude walvisvaart”
DESCRIPTION:Karel Oosterling vertelt over zijn onlangs verschenen boek “De oude walvisvaart”. \nKarel Oosterling (1950) woont in Haarlem. Hij studeerde economie aan de Universiteit van Amsterdam. Na zijn pensionering ging hij op onderzoek naar zijn roots. Ameland en de walvisvaart waren de verrassende vondsten. In de 18e eeuw waren twee generaties van zijn voorouders commandeur en gingen naar zowel Groenland als Spitsbergen. Verrassend is dat deze voorouders kwamen uit het dorp Buren en hun nakomelingen de naam Molenaar dragen.
URL:https://www.persbureau-ameland.nl/agenda/lezing-karel-oosterling-de-oude-walvisvaart
LOCATION:Ons Hol\, Oranjeweg 30\, Hollum\, Nederland\, 9161 CC
END:VEVENT
BEGIN:VEVENT
DTSTART;TZID=Europe/Helsinki:20231115T200000
DTEND;TZID=Europe/Helsinki:20231115T230000
DTSTAMP:20260420T064424
CREATED:20231023T082002Z
LAST-MODIFIED:20231023T082002Z
UID:91737-1700078400-1700089200@www.persbureau-ameland.nl
SUMMARY:Kunstmaandoptreden Pop-gospelkoor Inspirit
DESCRIPTION:Woensdag 8 november\, 20.00 uur in de St. Clemenskerk\, Nes Ameland
URL:https://www.persbureau-ameland.nl/agenda/kunstmaandoptreden-pop-gospelkoor-inspirit-2
LOCATION:St. Clemenskerk\, Kardinaal de Jongweg 33\, Nes\, Friesland\, 9163 HZ\, Nederland
END:VEVENT
BEGIN:VEVENT
DTSTART;TZID=Europe/Helsinki:20231116T200000
DTEND;TZID=Europe/Helsinki:20231116T220000
DTSTAMP:20260420T064424
CREATED:20231116T074529Z
LAST-MODIFIED:20231116T074529Z
UID:92218-1700164800-1700172000@www.persbureau-ameland.nl
SUMMARY:Avond vol verhalen
DESCRIPTION:Donderdagvond 16 november Avond vol Verhalen in Sier aan Zee. 20:00 uur € 10\,—
URL:https://www.persbureau-ameland.nl/agenda/avond-vol-verhalen
END:VEVENT
BEGIN:VEVENT
DTSTART;TZID=Europe/Helsinki:20231117T193000
DTEND;TZID=Europe/Helsinki:20231117T193000
DTSTAMP:20260420T064424
CREATED:20231116T074628Z
LAST-MODIFIED:20231116T074628Z
UID:92221-1700249400-1700249400@www.persbureau-ameland.nl
SUMMARY:Verhalenavond in De Vlindertuin
DESCRIPTION:Vrijdag 17 november Verhalenavond in De Vlindertuin in Nes – 19:30 uur
URL:https://www.persbureau-ameland.nl/agenda/verhalenavond-in-de-vlindertuin
END:VEVENT
BEGIN:VEVENT
DTSTART;TZID=Europe/Helsinki:20231117T200000
DTEND;TZID=Europe/Helsinki:20231117T200000
DTSTAMP:20260420T064424
CREATED:20231030T142027Z
LAST-MODIFIED:20231030T142027Z
UID:91882-1700251200-1700251200@www.persbureau-ameland.nl
SUMMARY:Kunstmaandconcert zangkoor Crescendo
DESCRIPTION:Entree gratis\, collecte na afloop
URL:https://www.persbureau-ameland.nl/agenda/kunstmaandconcert-zangkoor-crescendo-3
LOCATION:Hervormde kerk Ballum\, Camminghastraat 14\, Ballum\, 9162EM
END:VEVENT
BEGIN:VEVENT
DTSTART;TZID=Europe/Helsinki:20231118T180000
DTEND;TZID=Europe/Helsinki:20231118T210000
DTSTAMP:20260420T064424
CREATED:20231116T074716Z
LAST-MODIFIED:20231116T074716Z
UID:92223-1700330400-1700341200@www.persbureau-ameland.nl
SUMMARY:Verteldiner in Sier aan Zee
DESCRIPTION:Zaterdag 18 november Verteldiner in Sier aan Zee – Volgeboekt
URL:https://www.persbureau-ameland.nl/agenda/verteldiner-in-sier-aan-zee
END:VEVENT
BEGIN:VEVENT
DTSTART;TZID=Europe/Helsinki:20231119T200000
DTEND;TZID=Europe/Helsinki:20231119T200000
DTSTAMP:20260420T064424
CREATED:20231101T140916Z
LAST-MODIFIED:20231101T140916Z
UID:91977-1700424000-1700424000@www.persbureau-ameland.nl
SUMMARY:Kunstmaandconcert DODO & friends
DESCRIPTION:Hartverwarmende ontmoetingen bij kaarslicht’ \nTijdens de Kunstmaand geven DODO & friends iedere zondagavond een concert in het Doopsgezind kerkje De Vermaning\, te Nes. Gasten en eilanders zijn van harte welkom. Aanvang 20:00 uur. Toegang vrij. \nDe concerten van DODO & friends zijn hartverwarmende ontmoetingen bij kaarslicht. De muzikanten brengen hits en evergreens\, uit binnen- en buitenland. Van Zonder jou tot Walk of life. Diverse instrumenten klinken waaronder viool\, fluit\, cajon\, piano en gitaar. \nDODO bestaat uit eilandbewoners Jelmer Kooistra en Anne-Meta Kobes. Tijdens de concerten in De Vermaning spelen zij samen met Ingrid de Vries\, Ammie Kooiker en Jester Nynke Schoustra. \nIn De Vermaning is een beperkt aantal zitplaatsen beschikbaar\, daarom raden we u aan uw plek te reserveren via www.DODOameland.nl. De concerten zijn vrij toegankelijk. U kunt een gift geven na afloop. \nMeer informatie over de concerten van DODO vindt u op www.DODOameland.nl\, Facebook & Instagram: DODOameland
URL:https://www.persbureau-ameland.nl/agenda/kunstmaandconcert-dodo-friends-2
LOCATION:Vermaningskerk Nes
END:VEVENT
BEGIN:VEVENT
DTSTART;TZID=Europe/Helsinki:20231122T200000
DTEND;TZID=Europe/Helsinki:20231122T200000
DTSTAMP:20260420T064424
CREATED:20231101T125543Z
LAST-MODIFIED:20231101T125543Z
UID:91941-1700683200-1700683200@www.persbureau-ameland.nl
SUMMARY:Lezing: Op reis per kajak
DESCRIPTION:
URL:https://www.persbureau-ameland.nl/agenda/lezing-op-reis-per-kajak
LOCATION:Ons Hol\, Oranjeweg 30\, Hollum\, Nederland\, 9161 CC
END:VEVENT
BEGIN:VEVENT
DTSTART;TZID=Europe/Helsinki:20231124T200000
DTEND;TZID=Europe/Helsinki:20231124T200000
DTSTAMP:20260420T064424
CREATED:20231030T142147Z
LAST-MODIFIED:20231030T142147Z
UID:91885-1700856000-1700856000@www.persbureau-ameland.nl
SUMMARY:Kunstmaandconcert zangkoor Crescendo
DESCRIPTION:Entree gratis\, collecte na afloop
URL:https://www.persbureau-ameland.nl/agenda/kunstmaandconcert-zangkoor-crescendo-4
LOCATION:Vermaningskerk Nes
END:VEVENT
BEGIN:VEVENT
DTSTART;TZID=Europe/Helsinki:20231126T200000
DTEND;TZID=Europe/Helsinki:20231126T200000
DTSTAMP:20260420T064424
CREATED:20231101T141042Z
LAST-MODIFIED:20231101T141042Z
UID:91979-1701028800-1701028800@www.persbureau-ameland.nl
SUMMARY:Kunstmaandconcert DODO & friends
DESCRIPTION:Hartverwarmende ontmoetingen bij kaarslicht’ \nTijdens de Kunstmaand geven DODO & friends iedere zondagavond een concert in het Doopsgezind kerkje De Vermaning\, te Nes. Gasten en eilanders zijn van harte welkom. Aanvang 20:00 uur. Toegang vrij. \nDe concerten van DODO & friends zijn hartverwarmende ontmoetingen bij kaarslicht. De muzikanten brengen hits en evergreens\, uit binnen- en buitenland. Van Zonder jou tot Walk of life. Diverse instrumenten klinken waaronder viool\, fluit\, cajon\, piano en gitaar. \nDODO bestaat uit eilandbewoners Jelmer Kooistra en Anne-Meta Kobes. Tijdens de concerten in De Vermaning spelen zij samen met Ingrid de Vries\, Ammie Kooiker en Jester Nynke Schoustra. \nIn De Vermaning is een beperkt aantal zitplaatsen beschikbaar\, daarom raden we u aan uw plek te reserveren via www.DODOameland.nl. De concerten zijn vrij toegankelijk. U kunt een gift geven na afloop. \nMeer informatie over de concerten van DODO vindt u op www.DODOameland.nl\, Facebook & Instagram: DODOameland
URL:https://www.persbureau-ameland.nl/agenda/kunstmaandconcert-dodo-friends-3
LOCATION:Vermaningskerk Nes
END:VEVENT
END:VCALENDAR