BEGIN:VCALENDAR
VERSION:2.0
PRODID:-//Persbureau Ameland - ECPv6.15.20//NONSGML v1.0//EN
CALSCALE:GREGORIAN
METHOD:PUBLISH
X-WR-CALNAME:Persbureau Ameland
X-ORIGINAL-URL:https://www.persbureau-ameland.nl
X-WR-CALDESC:Evenementen voor Persbureau Ameland
REFRESH-INTERVAL;VALUE=DURATION:PT1H
X-Robots-Tag:noindex
X-PUBLISHED-TTL:PT1H
BEGIN:VTIMEZONE
TZID:Europe/Helsinki
BEGIN:DAYLIGHT
TZOFFSETFROM:+0200
TZOFFSETTO:+0300
TZNAME:EEST
DTSTART:20220327T010000
END:DAYLIGHT
BEGIN:STANDARD
TZOFFSETFROM:+0300
TZOFFSETTO:+0200
TZNAME:EET
DTSTART:20221030T010000
END:STANDARD
BEGIN:DAYLIGHT
TZOFFSETFROM:+0200
TZOFFSETTO:+0300
TZNAME:EEST
DTSTART:20230326T010000
END:DAYLIGHT
BEGIN:STANDARD
TZOFFSETFROM:+0300
TZOFFSETTO:+0200
TZNAME:EET
DTSTART:20231029T010000
END:STANDARD
BEGIN:DAYLIGHT
TZOFFSETFROM:+0200
TZOFFSETTO:+0300
TZNAME:EEST
DTSTART:20240331T010000
END:DAYLIGHT
BEGIN:STANDARD
TZOFFSETFROM:+0300
TZOFFSETTO:+0200
TZNAME:EET
DTSTART:20241027T010000
END:STANDARD
END:VTIMEZONE
BEGIN:VEVENT
DTSTART;TZID=Europe/Helsinki:20230615T000000
DTEND;TZID=Europe/Helsinki:20231023T235959
DTSTAMP:20260419T195757
CREATED:20231012T095947Z
LAST-MODIFIED:20231012T095947Z
UID:90988-1686787200-1698105599@www.persbureau-ameland.nl
SUMMARY:Tames Oud – Eiland van verlangen
DESCRIPTION:ORANJEWOUD – Voor het eerst in 42 jaar vindt er in Nederland een overzichtstentoonstelling plaats van het werk van Tames Oud (1895-1953). Aankomende zomer organiseren Museum Belvédère (17 juni t/m 24 september) en de Stichting Amelander Musea (17 juni t/m 23 oktober) in nauwe samenwerking de overzichtstentoonstelling ‘Tames Oud – Eiland van Verlangen’. \nDe op Ameland geboren Tames Oud is een uitzonderlijke Friese kunstenaar uit de vorige eeuw. Zoals veel Amelander jongens was hij in de eerste plaats een zeeman. Vanaf 1918 werkte Tames Oud in een suikerfabriek\, als glasblazer\, huisschilder en -decorateur\, sjouwer en kroegbaas. Ook deed hij aan boksen en wielrennen. Niettemin werkte hij steevast aan zijn oeuvre. In 1920 vestigde Tames Oud zich in België en volgde hij de Academie voor Schone Kunsten in Brussel. Hij koos voor het vak ‘kunstschilder’ toen hij eind 1938 naar Den Haag verhuisde. \nOndanks dat zijn werk sterk werd beïnvloed door Vlaamse pointillisten en expressionisten\, bleef het een eigen karakter behouden. Zowel in zijn schilderijen\, grafiek als tekeningen zocht Oud naar krachtige\, eenvoudige vormen en koos hij onderwerpen uit het dagelijkse bestaan van boeren en vissers.\nDe herinneringen aan zijn eiland van herkomst bleven daarbij altijd een rol spelen. \nIn 1931 trad Oud met zijn werk naar buiten. Daarna exposeerde hij solo of met anderen op verschillende plekken in Vlaanderen en vanaf 1939 in Nederland. Verschillende Nederlandse en Belgische musea kochten werk van hem aan\, en ook het MoMa in New York toonde belangstelling. Zijn vroege dood in 1953 maakte echter een einde aan een mogelijke doorbraak. \nDe tentoonstelling op Ameland zal te zien zijn in de zaal voor tijdelijke exposities in het Cultuurhistorisch Museum Sorgdrager in Hollum en concentreert zich op schilderijen en werken op papier die een relatie onderhouden met het eiland. De tentoonstelling in Museum Belvédère zal zich vooral richten op de werken met een Vlaamse en Hollandse connectie en is te zien in vier kamers van de westvleugel. In beide tentoonstellingen is er werk uit particuliere collecties te zien\, die voor het eerst in lange tijd weer in museale context getoond worden. \nDe overzichtstentoonstelling is in beide musea te zien van 17 juni tot en met 24 september 2023\, op Ameland loopt de expositie nog door tot maandag 23 oktober 2023. Bij de tentoonstelling verschijnt een rijk geïllustreerde publicatie\, geschreven door Gitte Brugman. \nOp donderdag 15 juni wordt de expositie feestelijk geopend op Ameland\, in Heerenveen-Oranjewoud zal dit op vrijdag 16 juni plaatsvinden. \nBron Museum Belvédère
URL:https://www.persbureau-ameland.nl/agenda/tames-oud-eiland-van-verlangen
LOCATION:Museum Sorgdrager\, Herenweg 1\, Hollum\, Friesland\, 9161AM\, Nederland
END:VEVENT
END:VCALENDAR