BEGIN:VCALENDAR
VERSION:2.0
PRODID:-//Persbureau Ameland - ECPv6.15.20//NONSGML v1.0//EN
CALSCALE:GREGORIAN
METHOD:PUBLISH
X-WR-CALNAME:Persbureau Ameland
X-ORIGINAL-URL:https://www.persbureau-ameland.nl
X-WR-CALDESC:Evenementen voor Persbureau Ameland
REFRESH-INTERVAL;VALUE=DURATION:PT1H
X-Robots-Tag:noindex
X-PUBLISHED-TTL:PT1H
BEGIN:VTIMEZONE
TZID:Europe/Helsinki
BEGIN:DAYLIGHT
TZOFFSETFROM:+0200
TZOFFSETTO:+0300
TZNAME:EEST
DTSTART:20220327T010000
END:DAYLIGHT
BEGIN:STANDARD
TZOFFSETFROM:+0300
TZOFFSETTO:+0200
TZNAME:EET
DTSTART:20221030T010000
END:STANDARD
BEGIN:DAYLIGHT
TZOFFSETFROM:+0200
TZOFFSETTO:+0300
TZNAME:EEST
DTSTART:20230326T010000
END:DAYLIGHT
BEGIN:STANDARD
TZOFFSETFROM:+0300
TZOFFSETTO:+0200
TZNAME:EET
DTSTART:20231029T010000
END:STANDARD
BEGIN:DAYLIGHT
TZOFFSETFROM:+0200
TZOFFSETTO:+0300
TZNAME:EEST
DTSTART:20240331T010000
END:DAYLIGHT
BEGIN:STANDARD
TZOFFSETFROM:+0300
TZOFFSETTO:+0200
TZNAME:EET
DTSTART:20241027T010000
END:STANDARD
END:VTIMEZONE
BEGIN:VEVENT
DTSTART;TZID=Europe/Helsinki:20231021T140000
DTEND;TZID=Europe/Helsinki:20231021T170000
DTSTAMP:20260420T124950
CREATED:20231012T101151Z
LAST-MODIFIED:20231012T101151Z
UID:91000-1697896800-1697907600@www.persbureau-ameland.nl
SUMMARY:Demonstratie paardenreddingboot
DESCRIPTION:HOLLUM – Op Ameland is een reddingboot gestationeerd die door paarden naar zee wordt getrokken. De tewaterlating van de paardenreddingboot is een belevenis. Tien paarden denderen met de boot door het dorp naar het Zuidwest. \nVier paarden aan weerszijden van het onderstel lanceren de boot. De paarden worden losgekoppeld van het onderstel en lopen terug naar het strand. Daarna wordt het onderstel uit het water getrokken. De boot ligt dan al te water en vaart een rondje. Deze reddingboot\, de Abraham Fock\, vaart niet meer uit om schepen in nood bij te staan en mensen te redden. Daarvoor vaart de modern geoutilleerde KNRM boot uit\, die in de Ballumerbocht permanent vaarklaar ligt. \nDe paardenreddingboot gaat uit om te demonstreren hoe het vroeger ging.\n→ lees hier meer over de Paardenreddingboot \nHet Maritiem Centrum Abraham Fock laat de geschiedenis van het reddingswezen op Ameland zien. Het museum is in het boothuis van de paardenreddingboot gevestigd. Het museum staat bol van de interessante voorwerpen en er zijn spectaculaire films over de reddingboot te zien. \nStorm wil naar zee\nDieuwke Veldhuizen maakte het prentenboekje Storm wil naar zee\, over een paard dat ook reddingbootpaard wil worden. \nHet boekje is voor € 14\,50 in de Amelander boekhandels en in het Maritiem Centrum te koop. Van elk verkocht exemplaar gaat een euro naar Stiochting Paardenreddingboot ameland.\n→ Lees hier meer over Storm wil naar zee \nDemonstratieschema Paardenreddingboot 2023 \n\nZaterdag 25 februari 2023 14:00  (Voorjaarsvakantie)\nZaterdag 8 aptil 11:00 uur   (Paasvakantie)\nMaandag 1 mei 19:00 uur    (Meivakantie)\nZaterdag 27 mei 16:00 uur   (Pinksteren)\nVrijdag 16 juni 18:00 uur   (Muzikaal Bootwateren)\nDonderdag 13 juli 19:00 uur   (Zomervakantie)\nZaterdag 29 juli 19:00 uur   (Zomervakantie)\nDonderdag 10 augustus 18:00 uur   (Zomervakantie)\nMaandag 28 augustus 19:00 uur   (Zomervakantie)\nMaandag 11 september 19:00 uur   (Nazomer)\nZaterdag 21 oktober 14:00 uur   (Herfstvakantie)\nZaterdag 30 december 11:00   (Kerstvakantie)\n\nData en tijden onder voorbehoud!\nDe start is vanuit het boothuis bij het Maritiem Centrum Abraham Fock aan de\nOranjeweg 18 te Hollum\, de demonstratie vindt plaats op het strand Zuidwest\nvan Hollum\, einde Tjettepad.
URL:https://www.persbureau-ameland.nl/agenda/demonstratie-paardenreddingboot
LOCATION:Maritiem Centrum “Abraham Fock”\, Oranjeweg 18\,\, Hollum\, Friesland\, 9161CC\, Nederland
END:VEVENT
BEGIN:VEVENT
DTSTART;TZID=Europe/Helsinki:20231021T093000
DTEND;TZID=Europe/Helsinki:20231021T170000
DTSTAMP:20260420T124950
CREATED:20231012T100823Z
LAST-MODIFIED:20231012T100823Z
UID:90998-1697880600-1697907600@www.persbureau-ameland.nl
SUMMARY:Tussen Slik & Zand
DESCRIPTION:De 12e editie van Tussen Slik en Zand is op zaterdag 21 oktober 2023. \nBekijk de verschillende locaties van Tussen Slik en Zand
URL:https://www.persbureau-ameland.nl/agenda/tussen-slik-zand
END:VEVENT
END:VCALENDAR