BEGIN:VCALENDAR
VERSION:2.0
PRODID:-//Persbureau Ameland - ECPv6.15.20//NONSGML v1.0//EN
CALSCALE:GREGORIAN
METHOD:PUBLISH
X-ORIGINAL-URL:https://www.persbureau-ameland.nl
X-WR-CALDESC:Evenementen voor Persbureau Ameland
REFRESH-INTERVAL;VALUE=DURATION:PT1H
X-Robots-Tag:noindex
X-PUBLISHED-TTL:PT1H
BEGIN:VTIMEZONE
TZID:Europe/Helsinki
BEGIN:DAYLIGHT
TZOFFSETFROM:+0200
TZOFFSETTO:+0300
TZNAME:EEST
DTSTART:20250330T010000
END:DAYLIGHT
BEGIN:STANDARD
TZOFFSETFROM:+0300
TZOFFSETTO:+0200
TZNAME:EET
DTSTART:20251026T010000
END:STANDARD
BEGIN:DAYLIGHT
TZOFFSETFROM:+0200
TZOFFSETTO:+0300
TZNAME:EEST
DTSTART:20260329T010000
END:DAYLIGHT
BEGIN:STANDARD
TZOFFSETFROM:+0300
TZOFFSETTO:+0200
TZNAME:EET
DTSTART:20261025T010000
END:STANDARD
BEGIN:DAYLIGHT
TZOFFSETFROM:+0200
TZOFFSETTO:+0300
TZNAME:EEST
DTSTART:20270328T010000
END:DAYLIGHT
BEGIN:STANDARD
TZOFFSETFROM:+0300
TZOFFSETTO:+0200
TZNAME:EET
DTSTART:20271031T010000
END:STANDARD
END:VTIMEZONE
BEGIN:VEVENT
DTSTART;TZID=Europe/Helsinki:20260305T200000
DTEND;TZID=Europe/Helsinki:20260305T213000
DTSTAMP:20260421T093517
CREATED:20260302T082712Z
LAST-MODIFIED:20260302T082712Z
UID:101075-1772740800-1772746200@www.persbureau-ameland.nl
SUMMARY:Jazzcafé bij Sier aan Zee
DESCRIPTION:HOLLUM – Liefhebbers van live muziek kunnen donderdagavond 5 maart terecht in Hollum voor een jazzcafé bij Sier aan Zee. \n\n\n\nHet Jazz Café begint om 20.00 uur. Bezoekers betalen €7\,50 entree\, inclusief consumptie. Daarmee belooft het een leuke avond te worden voor zowel eilanders als gasten die op Ameland verblijven. \n\n\n\nReserveren kan via info@sieraanzee.nl of telefonisch via 0519-555353.
URL:https://www.persbureau-ameland.nl/agenda/jazzcafe-bij-sier-aan-zee
END:VEVENT
END:VCALENDAR