BEGIN:VCALENDAR
VERSION:2.0
PRODID:-//Persbureau Ameland - ECPv6.15.20//NONSGML v1.0//EN
CALSCALE:GREGORIAN
METHOD:PUBLISH
X-WR-CALNAME:Persbureau Ameland
X-ORIGINAL-URL:https://www.persbureau-ameland.nl
X-WR-CALDESC:Evenementen voor Persbureau Ameland
REFRESH-INTERVAL;VALUE=DURATION:PT1H
X-Robots-Tag:noindex
X-PUBLISHED-TTL:PT1H
BEGIN:VTIMEZONE
TZID:Europe/Helsinki
BEGIN:DAYLIGHT
TZOFFSETFROM:+0200
TZOFFSETTO:+0300
TZNAME:EEST
DTSTART:20230326T010000
END:DAYLIGHT
BEGIN:STANDARD
TZOFFSETFROM:+0300
TZOFFSETTO:+0200
TZNAME:EET
DTSTART:20231029T010000
END:STANDARD
BEGIN:DAYLIGHT
TZOFFSETFROM:+0200
TZOFFSETTO:+0300
TZNAME:EEST
DTSTART:20240331T010000
END:DAYLIGHT
BEGIN:STANDARD
TZOFFSETFROM:+0300
TZOFFSETTO:+0200
TZNAME:EET
DTSTART:20241027T010000
END:STANDARD
BEGIN:DAYLIGHT
TZOFFSETFROM:+0200
TZOFFSETTO:+0300
TZNAME:EEST
DTSTART:20250330T010000
END:DAYLIGHT
BEGIN:STANDARD
TZOFFSETFROM:+0300
TZOFFSETTO:+0200
TZNAME:EET
DTSTART:20251026T010000
END:STANDARD
END:VTIMEZONE
BEGIN:VEVENT
DTSTART;TZID=Europe/Helsinki:20240915T130000
DTEND;TZID=Europe/Helsinki:20240915T160000
DTSTAMP:20260419T163522
CREATED:20240807T090251Z
LAST-MODIFIED:20240807T090251Z
UID:94973-1726405200-1726416000@www.persbureau-ameland.nl
SUMMARY:Open Monumentendag
DESCRIPTION:In de dorpen Hollum\, Ballum en Nes kunt u tijdens Open Monumentendag deelnemen aan een rondleiding en een aantal monumenten en kerken bezichtigen. Daarnaast zijn in Nes molen de Phenix\, het Cultuurmuseum en in Hollum museum Sorgdrager geopend. U herkent de open gebouwen aan een vlag met het logo van de Open Monumentendag.  \n\n\n\nOpeningstijden zondag 15 september: 13.00-16.00 uur* \n\n\n\n*) Per monument kunnen openingstijden afwijken. Kijk voor actuele informatie op www.openmonumentendag.nl  \n\n\n\nVerhalen door Ameland Vertel!\n\n\n\nDe groep Ameland Vertel! vertelt verhalen op 14 en 15 september op diverse locaties in Hollum en Nes. Hieronder vindt u een overzicht van de locaties met de sprekers en begintijden. \n\n\n\nHerberg De Zwaan \n\n\n\nSelma Dubbeld – De herinneringsdoos van Gerrit om 14.00 en 15.30 uur \n\n\n\nJesse Wiegersma – De historie van Herberg De Zwaan om 14.00 en 15.30 uur \n\n\n\nEntree is vrije bijdrage in de hoge hoed \n\n\n\nMuseum Sorgdrager \n\n\n\nJoke Mosterman – De commandeurswoning en haar tegels om 14.00 en 15.30 uur \n\n\n\nAukje van Dijk – De Put. Watervoorziening op Ameland om 14.00 en 15.30 uur \n\n\n\nVermaning Nes \n\n\n\nBastiaan Kobes – Dominee Venema om 14.00 en 15.30 uur \n\n\n\nRondleidingen door het Beschermd Dorpsgezicht\n\n\n\nTijdens Open Monumentendag vinden in Hollum\, Ballum en Nes ook rondleidingen door de beschermde dorpsgezichten van de plaats. De rondleidingen zijn gratis en u hoeft zich niet op te geven. Een rondleiding duurt ongeveer 90 minuten en start beide dagen om 13.30 uur. De startpunten per dorp: \n\n\n\n\nHollum: Museum Sorgdrager (Herenweg 1\, 9161 AM Hollum)\n\n\n\nBallum: Toegangshek Begraafplaats (Smitteweg 4\, 9162 EC Ballum)\n\n\n\nNes: Cultuurmuseum (Kerkplein 1\, 9163 HB Nes)\n\n\n\n\nAlle activiteiten tijdens Open Monumentendag zijn gratis. Heeft u een Museumjaarkaart dan die graag tonen. \n\n\n\nMeer informatie vindt u op de site van Open Monumentendag.
URL:https://www.persbureau-ameland.nl/agenda/open-monumentendag-ameland
END:VEVENT
END:VCALENDAR