BEGIN:VCALENDAR
VERSION:2.0
PRODID:-//Persbureau Ameland - ECPv6.15.20//NONSGML v1.0//EN
CALSCALE:GREGORIAN
METHOD:PUBLISH
X-WR-CALNAME:Persbureau Ameland
X-ORIGINAL-URL:https://www.persbureau-ameland.nl
X-WR-CALDESC:Evenementen voor Persbureau Ameland
REFRESH-INTERVAL;VALUE=DURATION:PT1H
X-Robots-Tag:noindex
X-PUBLISHED-TTL:PT1H
BEGIN:VTIMEZONE
TZID:Europe/Helsinki
BEGIN:DAYLIGHT
TZOFFSETFROM:+0200
TZOFFSETTO:+0300
TZNAME:EEST
DTSTART:20230326T010000
END:DAYLIGHT
BEGIN:STANDARD
TZOFFSETFROM:+0300
TZOFFSETTO:+0200
TZNAME:EET
DTSTART:20231029T010000
END:STANDARD
BEGIN:DAYLIGHT
TZOFFSETFROM:+0200
TZOFFSETTO:+0300
TZNAME:EEST
DTSTART:20240331T010000
END:DAYLIGHT
BEGIN:STANDARD
TZOFFSETFROM:+0300
TZOFFSETTO:+0200
TZNAME:EET
DTSTART:20241027T010000
END:STANDARD
BEGIN:DAYLIGHT
TZOFFSETFROM:+0200
TZOFFSETTO:+0300
TZNAME:EEST
DTSTART:20250330T010000
END:DAYLIGHT
BEGIN:STANDARD
TZOFFSETFROM:+0300
TZOFFSETTO:+0200
TZNAME:EET
DTSTART:20251026T010000
END:STANDARD
END:VTIMEZONE
BEGIN:VEVENT
DTSTART;TZID=Europe/Helsinki:20240802T130000
DTEND;TZID=Europe/Helsinki:20240802T160000
DTSTAMP:20260419T175717
CREATED:20240729T060225Z
LAST-MODIFIED:20240729T060225Z
UID:94884-1722603600-1722614400@www.persbureau-ameland.nl
SUMMARY:Optreden Zo Wad bij Rôggefeest
DESCRIPTION:Op 2 augustus zal de zanggroep Zo Wad optreden tijdens het Rôggefeest in Nes. Bezoekers kunnen genieten van hun diverse repertoire in de sfeervolle Vermaningskerk. \n\n\n\nDe optredens zijn gepland van 13:00 tot 14:00 uur en van 15:00 tot 16:00 uur. De zanggroep laat een greep uit hun gevarieerde repertoire horen. \n\n\n\nMis deze kans niet om te genieten van hun prachtige zang. Kom luisteren tijdens het Rôggefeest!
URL:https://www.persbureau-ameland.nl/agenda/optreden-zo-wad-bij-roggefeest
LOCATION:Vermaningskerk Nes
END:VEVENT
END:VCALENDAR