BEGIN:VCALENDAR
VERSION:2.0
PRODID:-//Persbureau Ameland - ECPv6.15.20//NONSGML v1.0//EN
CALSCALE:GREGORIAN
METHOD:PUBLISH
X-WR-CALNAME:Persbureau Ameland
X-ORIGINAL-URL:https://www.persbureau-ameland.nl
X-WR-CALDESC:Evenementen voor Persbureau Ameland
REFRESH-INTERVAL;VALUE=DURATION:PT1H
X-Robots-Tag:noindex
X-PUBLISHED-TTL:PT1H
BEGIN:VTIMEZONE
TZID:Europe/Helsinki
BEGIN:DAYLIGHT
TZOFFSETFROM:+0200
TZOFFSETTO:+0300
TZNAME:EEST
DTSTART:20230326T010000
END:DAYLIGHT
BEGIN:STANDARD
TZOFFSETFROM:+0300
TZOFFSETTO:+0200
TZNAME:EET
DTSTART:20231029T010000
END:STANDARD
BEGIN:DAYLIGHT
TZOFFSETFROM:+0200
TZOFFSETTO:+0300
TZNAME:EEST
DTSTART:20240331T010000
END:DAYLIGHT
BEGIN:STANDARD
TZOFFSETFROM:+0300
TZOFFSETTO:+0200
TZNAME:EET
DTSTART:20241027T010000
END:STANDARD
BEGIN:DAYLIGHT
TZOFFSETFROM:+0200
TZOFFSETTO:+0300
TZNAME:EEST
DTSTART:20250330T010000
END:DAYLIGHT
BEGIN:STANDARD
TZOFFSETFROM:+0300
TZOFFSETTO:+0200
TZNAME:EET
DTSTART:20251026T010000
END:STANDARD
END:VTIMEZONE
BEGIN:VEVENT
DTSTART;TZID=Europe/Helsinki:20240728T200000
DTEND;TZID=Europe/Helsinki:20240728T220000
DTSTAMP:20260419T192509
CREATED:20240715T125951Z
LAST-MODIFIED:20240715T125951Z
UID:94748-1722196800-1722204000@www.persbureau-ameland.nl
SUMMARY:Zomerconcert Zo Wad
DESCRIPTION:Op zondag 28 juli geeft Zo Wad een Zomerconcert in de sfeervolle Vermaningskerk in Nes. Vanaf 20:00 uur zal de zanggroep een greep uit hun gevarieerde repertoire laten horen. \n\n\n\nNaast koornummers zullen er ook in andere bezettingen nummers worden gezongen. Laat je verrassen! \n\n\n\nWil je zeker zijn van een plekje? Reserveer dan via de website: www.zowadameland.nl \n\n\n\nNa afloop is er een vrijwillige bijdrage.
URL:https://www.persbureau-ameland.nl/agenda/zomerconcert-zo-wad-2
LOCATION:Vermaningskerk Nes
END:VEVENT
END:VCALENDAR