BEGIN:VCALENDAR
VERSION:2.0
PRODID:-//Persbureau Ameland - ECPv6.15.20//NONSGML v1.0//EN
CALSCALE:GREGORIAN
METHOD:PUBLISH
X-ORIGINAL-URL:https://www.persbureau-ameland.nl
X-WR-CALDESC:Evenementen voor Persbureau Ameland
REFRESH-INTERVAL;VALUE=DURATION:PT1H
X-Robots-Tag:noindex
X-PUBLISHED-TTL:PT1H
BEGIN:VTIMEZONE
TZID:Europe/Helsinki
BEGIN:DAYLIGHT
TZOFFSETFROM:+0200
TZOFFSETTO:+0300
TZNAME:EEST
DTSTART:20230326T010000
END:DAYLIGHT
BEGIN:STANDARD
TZOFFSETFROM:+0300
TZOFFSETTO:+0200
TZNAME:EET
DTSTART:20231029T010000
END:STANDARD
BEGIN:DAYLIGHT
TZOFFSETFROM:+0200
TZOFFSETTO:+0300
TZNAME:EEST
DTSTART:20240331T010000
END:DAYLIGHT
BEGIN:STANDARD
TZOFFSETFROM:+0300
TZOFFSETTO:+0200
TZNAME:EET
DTSTART:20241027T010000
END:STANDARD
BEGIN:DAYLIGHT
TZOFFSETFROM:+0200
TZOFFSETTO:+0300
TZNAME:EEST
DTSTART:20250330T010000
END:DAYLIGHT
BEGIN:STANDARD
TZOFFSETFROM:+0300
TZOFFSETTO:+0200
TZNAME:EET
DTSTART:20251026T010000
END:STANDARD
END:VTIMEZONE
BEGIN:VEVENT
DTSTART;TZID=Europe/Helsinki:20240614T120000
DTEND;TZID=Europe/Helsinki:20240614T170000
DTSTAMP:20260419T205538
CREATED:20240610T132151Z
LAST-MODIFIED:20240610T132151Z
UID:94400-1718366400-1718384400@www.persbureau-ameland.nl
SUMMARY:Driedaagse kunstexpositie in Hollum
DESCRIPTION:Driedaagse kunstexpositie in Hollum\, derde editie. \n\n\n\nIn Hollum Ameland staat een Kunstexpositie op het programma van vrijdag 14 tot en met zondag 16 juni met daarnaast een aantal activiteiten. \n\n\n\nDrie dagen – drie eilander kunstenaars – drie verschillende disciplines. \n\n\n\nEtsen van Klaas Nobel\, verluchte initialen van Mathilda van der Weij en schilderijen van Valta zijn te zien in het prachtige Stalhuus (Burenlaan 16\, Hollum) van 12:00 tot 17:00 uur. \n\n\n\nMeer info op valta.n/expo
URL:https://www.persbureau-ameland.nl/agenda/driedaagse-kunstexpositie-in-hollum
END:VEVENT
END:VCALENDAR