BEGIN:VCALENDAR
VERSION:2.0
PRODID:-//Persbureau Ameland - ECPv6.15.20//NONSGML v1.0//EN
CALSCALE:GREGORIAN
METHOD:PUBLISH
X-WR-CALNAME:Persbureau Ameland
X-ORIGINAL-URL:https://www.persbureau-ameland.nl
X-WR-CALDESC:Evenementen voor Persbureau Ameland
REFRESH-INTERVAL;VALUE=DURATION:PT1H
X-Robots-Tag:noindex
X-PUBLISHED-TTL:PT1H
BEGIN:VTIMEZONE
TZID:Europe/Helsinki
BEGIN:DAYLIGHT
TZOFFSETFROM:+0200
TZOFFSETTO:+0300
TZNAME:EEST
DTSTART:20230326T010000
END:DAYLIGHT
BEGIN:STANDARD
TZOFFSETFROM:+0300
TZOFFSETTO:+0200
TZNAME:EET
DTSTART:20231029T010000
END:STANDARD
BEGIN:DAYLIGHT
TZOFFSETFROM:+0200
TZOFFSETTO:+0300
TZNAME:EEST
DTSTART:20240331T010000
END:DAYLIGHT
BEGIN:STANDARD
TZOFFSETFROM:+0300
TZOFFSETTO:+0200
TZNAME:EET
DTSTART:20241027T010000
END:STANDARD
BEGIN:DAYLIGHT
TZOFFSETFROM:+0200
TZOFFSETTO:+0300
TZNAME:EEST
DTSTART:20250330T010000
END:DAYLIGHT
BEGIN:STANDARD
TZOFFSETFROM:+0300
TZOFFSETTO:+0200
TZNAME:EET
DTSTART:20251026T010000
END:STANDARD
END:VTIMEZONE
BEGIN:VEVENT
DTSTART;TZID=Europe/Helsinki:20240525T100000
DTEND;TZID=Europe/Helsinki:20240525T170000
DTSTAMP:20260419T222339
CREATED:20240506T085742Z
LAST-MODIFIED:20240506T085742Z
UID:94018-1716631200-1716656400@www.persbureau-ameland.nl
SUMMARY:Bunkerdag
DESCRIPTION:p zaterdag 25 mei van 10.00 tot 17.00 uur zijn de bunkers van Zeeland tot de Waddeneilanden samen open voor de nationale Bunkerdag. Ook op Ameland kun je met een bunkerdagticket de hele dag deelnemen aan verschillende activiteiten. Zo kunnen bezoekers onder andere op fietsexcursie gaan langs ‘’verborgen bunkers’’ en luisteren naar oorlogsverhalen. \n\n\n\nProgramma\n\n\n\nBunkerexcursie Verborgen bunkers: \n\n\n\nLocatie: Bunkermuseum Ameland. Tijden: 10:00\, 12.00 en 14.00 uur. Neem je fiets mee! \n\n\n\nOorlogsverhalen Verteld! \n\n\n\nLocatie Bunkermuseum Ameland. Tijden: doorlopend tussen 13.30 en 16.30 uur. \n\n\n\nIn het Bunkermuseum worden verschillende oorlogsverhalen verteld. Onder andere over: \n\n\n\n\nWaarom werd Ameland pas op 3 juni bevrijd?\n\n\n\nEen kind in oorlogstijd.\n\n\n\nYad Vashem onderscheiding voor Kardinaal de Jong.\n\n\n\n‘De Terrorist’\, vakantiehuis op Ameland waar familie van verzetsstrijders na de oorlog bij elkaar konden komen.\n\n\n\n\nRe-enactment \n\n\n\nDe Kriegsmarine (de Duitse zeemacht van 1935 – 1945) zal worden nagespeeld tijdens Bunkerdag. Daarnaast worden er rondritten gefaciliteerd in een militaire auto. Voor kinderen zijn er diverse spelletjes te doen. \n\n\n\nOverige activiteiten: \n\n\n\n\nVerkoop van koffie en thee en diverse Ameland boeken\n\n\n\nExpositie over de bevrijding van Ameland\n\n\n\n\nZie voor meer informatie www.bunkerdag.nl
URL:https://www.persbureau-ameland.nl/agenda/bunkerdag
END:VEVENT
END:VCALENDAR