BEGIN:VCALENDAR
VERSION:2.0
PRODID:-//Persbureau Ameland - ECPv6.15.20//NONSGML v1.0//EN
CALSCALE:GREGORIAN
METHOD:PUBLISH
X-ORIGINAL-URL:https://www.persbureau-ameland.nl
X-WR-CALDESC:Evenementen voor Persbureau Ameland
REFRESH-INTERVAL;VALUE=DURATION:PT1H
X-Robots-Tag:noindex
X-PUBLISHED-TTL:PT1H
BEGIN:VTIMEZONE
TZID:Europe/Helsinki
BEGIN:DAYLIGHT
TZOFFSETFROM:+0200
TZOFFSETTO:+0300
TZNAME:EEST
DTSTART:20230326T010000
END:DAYLIGHT
BEGIN:STANDARD
TZOFFSETFROM:+0300
TZOFFSETTO:+0200
TZNAME:EET
DTSTART:20231029T010000
END:STANDARD
BEGIN:DAYLIGHT
TZOFFSETFROM:+0200
TZOFFSETTO:+0300
TZNAME:EEST
DTSTART:20240331T010000
END:DAYLIGHT
BEGIN:STANDARD
TZOFFSETFROM:+0300
TZOFFSETTO:+0200
TZNAME:EET
DTSTART:20241027T010000
END:STANDARD
BEGIN:DAYLIGHT
TZOFFSETFROM:+0200
TZOFFSETTO:+0300
TZNAME:EEST
DTSTART:20250330T010000
END:DAYLIGHT
BEGIN:STANDARD
TZOFFSETFROM:+0300
TZOFFSETTO:+0200
TZNAME:EET
DTSTART:20251026T010000
END:STANDARD
END:VTIMEZONE
BEGIN:VEVENT
DTSTART;TZID=Europe/Helsinki:20240520T133000
DTEND;TZID=Europe/Helsinki:20240520T133000
DTSTAMP:20260419T222428
CREATED:20240515T120013Z
LAST-MODIFIED:20240515T120013Z
UID:94084-1716211800-1716211800@www.persbureau-ameland.nl
SUMMARY:Lourdestocht
DESCRIPTION:Tweede Pinksterdag\, maandag 20 mei 2024\, is er een extra Oerdrit met de Strandexpress van Piet van Tuinen. Het is de Lourdestocht\, een onvergetelijke Oerdrit inclusief drie verhalen. \n\n\n\nPiet vertelt zelf over de geschiedenis van de Oerdritten. Selma Dubbeld vertelt het bijzondere en waargebeurde verhaal over het aanspoelen van een deklast\, waardoor het strand bezaaid lag met vele kubieke meters van de mooiste planken en balken. Het bracht de jutterskoorts op het eiland tot hoogte die door geen thermometer meer te meten was én het had een bijzonder genezend bijeffect. Wat Lourdes daarmee te maken heeft? Selma gaat het bij paal 21 vertellen. \n\n\n\nJoke Mosterman vertelt op het oostelijke puntje van het eiland\, op de Ho’n\, waar dat juttershout allemaal gebleven is. Een verhaal met prachtige anekdotes en hilarische wendingen. Ook haar verhaal berust op waarheid. Laat de strandvonder het maar niet horen! \n\n\n\nDe opstapplaats is strandopgang Nes. Jeanet de Jong speelt daar wat deunen op de trekharmonica. Als de trekzak stil valt vertrekt de Strandexpress over het strand richting het oosten. \n\n\n\nDeze Lourdestocht is een samenwerking van de Strandexpress en vertelgroep Ameland Vertel!Inclusief de verhalen\, elk van ongeveer een kwartier\, duurt deze Oerdrit pak hem beet tweeëneenhalf uur.  \n\n\n\nDe Lourdestocht kost € 27\,50 inclusief koffie of thee of limo en koek. Een plaatsje reserveren kan via de website van Strandexpress of via VVV Ameland. \n\n\n\nJe kunt ook even bellen met Piet: 0519 554116 of 06 538 38 512 \n\n\n\nLourdestocht20 mei 202413:30 uur vanaf Strandopgang Nes
URL:https://www.persbureau-ameland.nl/agenda/lourdestocht
END:VEVENT
END:VCALENDAR