BEGIN:VCALENDAR
VERSION:2.0
PRODID:-//Persbureau Ameland - ECPv6.15.20//NONSGML v1.0//EN
CALSCALE:GREGORIAN
METHOD:PUBLISH
X-ORIGINAL-URL:https://www.persbureau-ameland.nl
X-WR-CALDESC:Evenementen voor Persbureau Ameland
REFRESH-INTERVAL;VALUE=DURATION:PT1H
X-Robots-Tag:noindex
X-PUBLISHED-TTL:PT1H
BEGIN:VTIMEZONE
TZID:Europe/Helsinki
BEGIN:DAYLIGHT
TZOFFSETFROM:+0200
TZOFFSETTO:+0300
TZNAME:EEST
DTSTART:20230326T010000
END:DAYLIGHT
BEGIN:STANDARD
TZOFFSETFROM:+0300
TZOFFSETTO:+0200
TZNAME:EET
DTSTART:20231029T010000
END:STANDARD
BEGIN:DAYLIGHT
TZOFFSETFROM:+0200
TZOFFSETTO:+0300
TZNAME:EEST
DTSTART:20240331T010000
END:DAYLIGHT
BEGIN:STANDARD
TZOFFSETFROM:+0300
TZOFFSETTO:+0200
TZNAME:EET
DTSTART:20241027T010000
END:STANDARD
BEGIN:DAYLIGHT
TZOFFSETFROM:+0200
TZOFFSETTO:+0300
TZNAME:EEST
DTSTART:20250330T010000
END:DAYLIGHT
BEGIN:STANDARD
TZOFFSETFROM:+0300
TZOFFSETTO:+0200
TZNAME:EET
DTSTART:20251026T010000
END:STANDARD
END:VTIMEZONE
BEGIN:VEVENT
DTSTART;TZID=Europe/Helsinki:20240322T200000
DTEND;TZID=Europe/Helsinki:20240322T200000
DTSTAMP:20260420T012520
CREATED:20231030T144131Z
LAST-MODIFIED:20231030T144131Z
UID:91900-1711137600-1711137600@www.persbureau-ameland.nl
SUMMARY:Lezing: Ameland en de Spaanse Burgeroorlog
DESCRIPTION:Cor Faber raakte geïntrigeerd door de Spaanse Burgeroorlog toen hij het dagboek van zijn opa in handen kreeg. Hoe kwam het dat zijn opa als gewoon matroos belandde in een Spaanse gevangenis? Nog met behulp van aantekeningen van Jan Fokkema bereidde hij deze interessante lezing voor waarin de rol van het eiland Ameland aan de orde komt.
URL:https://www.persbureau-ameland.nl/agenda/lezing-ameland-en-de-spaanse-burgeroorlog
LOCATION:Clubhuis “De Toel”\, Kardinaal de Jongweg 31\, Nes\, 9163 HZ\, Nederland
END:VEVENT
END:VCALENDAR