BEGIN:VCALENDAR
VERSION:2.0
PRODID:-//Persbureau Ameland - ECPv6.15.20//NONSGML v1.0//EN
CALSCALE:GREGORIAN
METHOD:PUBLISH
X-WR-CALNAME:Persbureau Ameland
X-ORIGINAL-URL:https://www.persbureau-ameland.nl
X-WR-CALDESC:Evenementen voor Persbureau Ameland
REFRESH-INTERVAL;VALUE=DURATION:PT1H
X-Robots-Tag:noindex
X-PUBLISHED-TTL:PT1H
BEGIN:VTIMEZONE
TZID:Europe/Helsinki
BEGIN:DAYLIGHT
TZOFFSETFROM:+0200
TZOFFSETTO:+0300
TZNAME:EEST
DTSTART:20230326T010000
END:DAYLIGHT
BEGIN:STANDARD
TZOFFSETFROM:+0300
TZOFFSETTO:+0200
TZNAME:EET
DTSTART:20231029T010000
END:STANDARD
BEGIN:DAYLIGHT
TZOFFSETFROM:+0200
TZOFFSETTO:+0300
TZNAME:EEST
DTSTART:20240331T010000
END:DAYLIGHT
BEGIN:STANDARD
TZOFFSETFROM:+0300
TZOFFSETTO:+0200
TZNAME:EET
DTSTART:20241027T010000
END:STANDARD
BEGIN:DAYLIGHT
TZOFFSETFROM:+0200
TZOFFSETTO:+0300
TZNAME:EEST
DTSTART:20250330T010000
END:DAYLIGHT
BEGIN:STANDARD
TZOFFSETFROM:+0300
TZOFFSETTO:+0200
TZNAME:EET
DTSTART:20251026T010000
END:STANDARD
END:VTIMEZONE
BEGIN:VEVENT
DTSTART;TZID=Europe/Helsinki:20240310T160000
DTEND;TZID=Europe/Helsinki:20240310T160000
DTSTAMP:20260420T023758
CREATED:20240304T103610Z
LAST-MODIFIED:20240304T103610Z
UID:93316-1710086400-1710086400@www.persbureau-ameland.nl
SUMMARY:Live muziek met Paul Martin bij Pannekoekhuis 'Onder de vuurtoren'
DESCRIPTION:Zondag 10 maart om 16.00 uur geniet je van live muziek met Paul Martin bij Pannenkoekenhuis ‘Onder de Vuurtoren’ onder het genot van een drankje en een heerlijke pannenkoek. Je kunt er vooral Ierse en Schotse muziek verwachten\, met een gezonde dosis van Country\, Classic Rock\, Folk en Bluegrass.
URL:https://www.persbureau-ameland.nl/agenda/live-muziek-met-paul-martin-bij-pannekoekhuis-onder-de-vuurtoren
END:VEVENT
END:VCALENDAR