BEGIN:VCALENDAR
VERSION:2.0
PRODID:-//Persbureau Ameland - ECPv6.15.20//NONSGML v1.0//EN
CALSCALE:GREGORIAN
METHOD:PUBLISH
X-ORIGINAL-URL:https://www.persbureau-ameland.nl
X-WR-CALDESC:Evenementen voor Persbureau Ameland
REFRESH-INTERVAL;VALUE=DURATION:PT1H
X-Robots-Tag:noindex
X-PUBLISHED-TTL:PT1H
BEGIN:VTIMEZONE
TZID:Europe/Helsinki
BEGIN:DAYLIGHT
TZOFFSETFROM:+0200
TZOFFSETTO:+0300
TZNAME:EEST
DTSTART:20230326T010000
END:DAYLIGHT
BEGIN:STANDARD
TZOFFSETFROM:+0300
TZOFFSETTO:+0200
TZNAME:EET
DTSTART:20231029T010000
END:STANDARD
BEGIN:DAYLIGHT
TZOFFSETFROM:+0200
TZOFFSETTO:+0300
TZNAME:EEST
DTSTART:20240331T010000
END:DAYLIGHT
BEGIN:STANDARD
TZOFFSETFROM:+0300
TZOFFSETTO:+0200
TZNAME:EET
DTSTART:20241027T010000
END:STANDARD
BEGIN:DAYLIGHT
TZOFFSETFROM:+0200
TZOFFSETTO:+0300
TZNAME:EEST
DTSTART:20250330T010000
END:DAYLIGHT
BEGIN:STANDARD
TZOFFSETFROM:+0300
TZOFFSETTO:+0200
TZNAME:EET
DTSTART:20251026T010000
END:STANDARD
END:VTIMEZONE
BEGIN:VEVENT
DTSTART;TZID=Europe/Helsinki:20240222T200000
DTEND;TZID=Europe/Helsinki:20240222T200000
DTSTAMP:20260420T035837
CREATED:20231030T143924Z
LAST-MODIFIED:20231030T143924Z
UID:91898-1708632000-1708632000@www.persbureau-ameland.nl
SUMMARY:Lezing Martijn de Groot: “Strandpalen van Nederland”
DESCRIPTION:Nergens anders langs de Nederlandse kust vind je mooiere strandpalen dan op Ameland. Op Vlieland zijn ze verwaarloosd of verdwenen als brandhout. Martijn de Groot (70) uit Edam fotografeerde alle kleine driehonderd kilometerpalen langs de Nederlandse kust en ontdekte van alles over deze markante oriëntatiepunten. Tonnie Overdiep zal na de lezing van Martijn de Groot uitleg geven over het strandpalenstelsel op Ameland.
URL:https://www.persbureau-ameland.nl/agenda/lezing-martijn-de-groot-strandpalen-van-nederland
LOCATION:Ons Hol\, Oranjeweg 30\, Hollum\, Nederland\, 9161 CC
END:VEVENT
END:VCALENDAR