BEGIN:VCALENDAR
VERSION:2.0
PRODID:-//Persbureau Ameland - ECPv6.15.20//NONSGML v1.0//EN
CALSCALE:GREGORIAN
METHOD:PUBLISH
X-ORIGINAL-URL:https://www.persbureau-ameland.nl
X-WR-CALDESC:Evenementen voor Persbureau Ameland
REFRESH-INTERVAL;VALUE=DURATION:PT1H
X-Robots-Tag:noindex
X-PUBLISHED-TTL:PT1H
BEGIN:VTIMEZONE
TZID:Europe/Helsinki
BEGIN:DAYLIGHT
TZOFFSETFROM:+0200
TZOFFSETTO:+0300
TZNAME:EEST
DTSTART:20230326T010000
END:DAYLIGHT
BEGIN:STANDARD
TZOFFSETFROM:+0300
TZOFFSETTO:+0200
TZNAME:EET
DTSTART:20231029T010000
END:STANDARD
BEGIN:DAYLIGHT
TZOFFSETFROM:+0200
TZOFFSETTO:+0300
TZNAME:EEST
DTSTART:20240331T010000
END:DAYLIGHT
BEGIN:STANDARD
TZOFFSETFROM:+0300
TZOFFSETTO:+0200
TZNAME:EET
DTSTART:20241027T010000
END:STANDARD
BEGIN:DAYLIGHT
TZOFFSETFROM:+0200
TZOFFSETTO:+0300
TZNAME:EEST
DTSTART:20250330T010000
END:DAYLIGHT
BEGIN:STANDARD
TZOFFSETFROM:+0300
TZOFFSETTO:+0200
TZNAME:EET
DTSTART:20251026T010000
END:STANDARD
END:VTIMEZONE
BEGIN:VEVENT
DTSTART;TZID=Europe/Helsinki:20240215T200000
DTEND;TZID=Europe/Helsinki:20240215T210000
DTSTAMP:20260420T034813
CREATED:20240212T203011Z
LAST-MODIFIED:20240212T203011Z
UID:93173-1708027200-1708030800@www.persbureau-ameland.nl
SUMMARY:Zo Wad geeft extra uitvoering van Valentijnsconcert
DESCRIPTION:Heeft u het concert van afgelopen zondag van zanggroep Zo Wad gemist of wilt u graag nog eens komen kijken?  \n\n\n\nDat kan! Wegens succes volgt er een extra concert in de Vermaningskerk in Nes. \n\n\n\nHet concert is om 20:00 uur op donderdag 15 februari aanstaande. Wilt u er bij zijn? Aanmelden kan via de Facebook-pagina Zanggroep Zo Wad\, via Instagram (zowadzanggroep) of door een berichtje te sturen naar één van de koorleden. \n\n\n\nEen kleine greep uit het concert: \n\n\n\n… My one and only……You’re there with me…… Will you stay with me…… Als ik de nacht bewonder\, besef ik dat ik altijd onder dezelfde hemel sta als jij… \n\n\n\nKan jij herleiden uit welke liedjes deze tekst komt? Natuurlijk kan je nog veel meer mooie nummers verwachten. Jjij komt toch ook? Reserveer een kaartje bij één van de koorleden. Tot dan! \n\n\n\nDatum: 15 februari \n\n\n\nTijd: 20.00 uur \n\n\n\nLocatie: Vermaningkerk (Nes)
URL:https://www.persbureau-ameland.nl/agenda/zo-wad-geeft-extra-uitvoering-van-valentijnsconcert
LOCATION:Vermaningskerk Nes
END:VEVENT
END:VCALENDAR