BEGIN:VCALENDAR
VERSION:2.0
PRODID:-//Persbureau Ameland - ECPv6.15.20//NONSGML v1.0//EN
CALSCALE:GREGORIAN
METHOD:PUBLISH
X-ORIGINAL-URL:https://www.persbureau-ameland.nl
X-WR-CALDESC:Evenementen voor Persbureau Ameland
REFRESH-INTERVAL;VALUE=DURATION:PT1H
X-Robots-Tag:noindex
X-PUBLISHED-TTL:PT1H
BEGIN:VTIMEZONE
TZID:Europe/Helsinki
BEGIN:DAYLIGHT
TZOFFSETFROM:+0200
TZOFFSETTO:+0300
TZNAME:EEST
DTSTART:20230326T010000
END:DAYLIGHT
BEGIN:STANDARD
TZOFFSETFROM:+0300
TZOFFSETTO:+0200
TZNAME:EET
DTSTART:20231029T010000
END:STANDARD
BEGIN:DAYLIGHT
TZOFFSETFROM:+0200
TZOFFSETTO:+0300
TZNAME:EEST
DTSTART:20240331T010000
END:DAYLIGHT
BEGIN:STANDARD
TZOFFSETFROM:+0300
TZOFFSETTO:+0200
TZNAME:EET
DTSTART:20241027T010000
END:STANDARD
BEGIN:DAYLIGHT
TZOFFSETFROM:+0200
TZOFFSETTO:+0300
TZNAME:EEST
DTSTART:20250330T010000
END:DAYLIGHT
BEGIN:STANDARD
TZOFFSETFROM:+0300
TZOFFSETTO:+0200
TZNAME:EET
DTSTART:20251026T010000
END:STANDARD
END:VTIMEZONE
BEGIN:VEVENT
DTSTART;TZID=Europe/Helsinki:20240211T200000
DTEND;TZID=Europe/Helsinki:20240211T235959
DTSTAMP:20260420T034814
CREATED:20240124T084247Z
LAST-MODIFIED:20240124T084247Z
UID:92940-1707681600-1707695999@www.persbureau-ameland.nl
SUMMARY:Valentijnsoptreden door Zanggroep Zo Wad in de Vermaningkerk
DESCRIPTION:Op zondag 11 februari zingt zanggroep Zo Wad weer mooie liefdesliedjes in de Vermaningskerk in Nes. In het Engels en Nederlands komen diverse popnummers voorbij. Dit alles in verschillende samenstellingen en met muzikale ondersteuning. Een kleine greep uit het concert: \n\n\n\n… My one and only……You’re there with me…… Will you stay with me…… Als ik de nacht bewonder\, besef ik dat ik altijd onder dezelfde hemel sta als jij… \n\n\n\nKan jij herleiden uit welke liedjes deze tekst komt? Natuurlijk kan je nog veel meer mooie nummers verwachten. Jjij komt toch ook? Reserveer een kaartje bij één van de koorleden. Tot dan! \n\n\n\nDatum: 11 februari  \n\n\n\nTijd: 20.00 uur  \n\n\n\nLocatie: Vermaningkerk (Nes)
URL:https://www.persbureau-ameland.nl/agenda/valentijnsoptreden-door-zanggroep-zo-wad-in-de-vermaningkerk
END:VEVENT
END:VCALENDAR