BEGIN:VCALENDAR
VERSION:2.0
PRODID:-//Persbureau Ameland - ECPv6.15.20//NONSGML v1.0//EN
CALSCALE:GREGORIAN
METHOD:PUBLISH
X-ORIGINAL-URL:https://www.persbureau-ameland.nl
X-WR-CALDESC:Evenementen voor Persbureau Ameland
REFRESH-INTERVAL;VALUE=DURATION:PT1H
X-Robots-Tag:noindex
X-PUBLISHED-TTL:PT1H
BEGIN:VTIMEZONE
TZID:Europe/Helsinki
BEGIN:DAYLIGHT
TZOFFSETFROM:+0200
TZOFFSETTO:+0300
TZNAME:EEST
DTSTART:20220327T010000
END:DAYLIGHT
BEGIN:STANDARD
TZOFFSETFROM:+0300
TZOFFSETTO:+0200
TZNAME:EET
DTSTART:20221030T010000
END:STANDARD
BEGIN:DAYLIGHT
TZOFFSETFROM:+0200
TZOFFSETTO:+0300
TZNAME:EEST
DTSTART:20230326T010000
END:DAYLIGHT
BEGIN:STANDARD
TZOFFSETFROM:+0300
TZOFFSETTO:+0200
TZNAME:EET
DTSTART:20231029T010000
END:STANDARD
BEGIN:DAYLIGHT
TZOFFSETFROM:+0200
TZOFFSETTO:+0300
TZNAME:EEST
DTSTART:20240331T010000
END:DAYLIGHT
BEGIN:STANDARD
TZOFFSETFROM:+0300
TZOFFSETTO:+0200
TZNAME:EET
DTSTART:20241027T010000
END:STANDARD
END:VTIMEZONE
BEGIN:VEVENT
DTSTART;TZID=Europe/Helsinki:20231229T200000
DTEND;TZID=Europe/Helsinki:20231229T220000
DTSTAMP:20260420T064547
CREATED:20231122T151906Z
LAST-MODIFIED:20231122T151906Z
UID:92321-1703880000-1703887200@www.persbureau-ameland.nl
SUMMARY:Concert Brassband Canite Tuba
DESCRIPTION:Entree gratis\, collecte na afloop
URL:https://www.persbureau-ameland.nl/agenda/concert-brassband-canite-tuba-3
LOCATION:St. Clemenskerk\, Kardinaal de Jongweg 33\, Nes\, Friesland\, 9163 HZ\, Nederland
END:VEVENT
BEGIN:VEVENT
DTSTART;TZID=Europe/Helsinki:20231229T200000
DTEND;TZID=Europe/Helsinki:20231229T230000
DTSTAMP:20260420T064547
CREATED:20231023T082215Z
LAST-MODIFIED:20231023T082215Z
UID:91740-1703880000-1703890800@www.persbureau-ameland.nl
SUMMARY:Eindejaarsconcert Pop-gospelkoor Inspirit
DESCRIPTION:Vrijdag 29 december\, 20.00 uur. Eindejaarsconcert Pop-gospelkoor Inspirit in samenwerking met Dodo\, in de Magnuskerk in HollumMagnuskerk
URL:https://www.persbureau-ameland.nl/agenda/eindejaarsconcert-pop-gospelkoor-inspirit
LOCATION:Magnuskerk\, Oosterlaan 2\, Hollum\, Friesland\, 9161 AC\, Nederland
END:VEVENT
END:VCALENDAR